BEGIN:VCALENDAR
PRODID:-//eluceo/ical//2.0/EN
VERSION:2.0
CALSCALE:GREGORIAN
BEGIN:VEVENT
UID:https://www.noegig.at/events/glasfasermesse-ottenschlag/
DTSTAMP:20260420T035533Z
SUMMARY:Glasfasermesse Ottenschlag
DESCRIPTION:Sie haben einen Anschluss im NÖ Glasfasernetz bestellt? Sie er
 halten zeitgerecht alle Informationen zu den Vorbereitungsarbeiten\, die S
 ie in Ihrem Haus treffen müssen. Die NÖ Glasfaserinfrastrukturgesellscha
 ft (nöGIG) wird Ihnen Ihr Startpaket zuschicken. Damit fehlt eigentlich n
 ur mehr eines: Das passende Paket für Ihren Internetzugang in Lichtgeschw
 indigkeit.\n\nWelcher Diensteanbieter passt für Sie?\nDas NÖ Glasfaserne
 tz ist offen für alle Diensteanbieter. Damit können Sie aus einem vielf
 ältigen Angebot wählen\, das aktuell von 26 Unternehmen gestaltet wird. 
 Die Bandbreite ist groß: Vom reinen Internetzugang bis hin zu Paketen mit
  zahlreichen TV-Sendern oder Telefonie ist alles möglich.\n\nUm Ihnen die
  Entscheidung zu erleichtern\, laden wir Sie herzlich zur Glasfasermesse e
 in. Dort können Sie sich im Detail informieren und von den Diensteanbiete
 rn direkt beraten lassen. Hier finden Sie die aktuellen Informationen.\nZu
 sätzlich steht Ihnen auch das nöGIG-Team am eigenen Info-Stand zur Verf
 ügung\, um Fragen rund um den Ausbau\, Ihren persönlichen NÖ Glasfasera
 nschluss\, die Hauszuleitung und die nächsten Schritte zu beantworten.\n\
 nNoch keinen Anschluss bestellt?\nFalls Sie noch keinen NÖ Glasfaseransch
 luss bestellt haben\, können Sie das gerne nachholen. In der Bauphase kos
 tet ein Einzelanschluss nur Eur 600\,-. Danach stiegt der Preis auf Eur 90
 0\,-. Bestellen Sie jetzt gleich schnell und einfach online.
DTSTART:20260521T150000
DTEND:20260521T190000
LOCATION:Mittelschule Ottenschlag\, Michael Jank-Gasse 6\, 3631 Ottenschlag
END:VEVENT
END:VCALENDAR
