BEGIN:VCALENDAR
PRODID:-//eluceo/ical//2.0/EN
VERSION:2.0
CALSCALE:GREGORIAN
BEGIN:VEVENT
UID:https://www.noegig.at/events/glasfaserspatenstich-droesing/
DTSTAMP:20260420T040151Z
SUMMARY:Glasfaserspatenstich Drösing
DESCRIPTION:Herr LAbg. René Lobner wird in Vertretung von Landeshauptfrau 
 Johanna Mikl-Leitner dem Spatenstich beiwohnen.\n\n\n
DTSTART:20260511T151500
DTEND:20260511T171500
LOCATION:Beim künftigen POP\, Neben Hauptstraße 58\, 2265 Waltersdorf an 
 der March
END:VEVENT
END:VCALENDAR
