BEGIN:VCALENDAR
PRODID:-//eluceo/ical//2.0/EN
VERSION:2.0
CALSCALE:GREGORIAN
BEGIN:VEVENT
UID:https://www.noegig.at/events/glasfaserspatenstich-langenrohr/
DTSTAMP:20260420T035911Z
SUMMARY:Glasfaserspatenstich Langenrohr
DESCRIPTION:Gemeinsam mit dem Abgeordneten zum NÖ Landtag Bernhard Heinrei
 chsberger in Vertretung von Landeshauptfrau Johanna Mikl-Leitner
DTSTART:20260420T150000
DTEND:20260420T170000
LOCATION:TBA\, \,  
END:VEVENT
END:VCALENDAR
