BEGIN:VCALENDAR
PRODID:-//eluceo/ical//2.0/EN
VERSION:2.0
CALSCALE:GREGORIAN
BEGIN:VEVENT
UID:https://www.noegig.at/events/spatenstich-neusiedl-an-der-zaya-palterndo
 rf-dobermannsdorf/
DTSTAMP:20260420T035237Z
SUMMARY:Spatenstich Neusiedl an der Zaya &#038\; Palterndorf-Dobermannsdorf
DESCRIPTION:Herr LAbg. René Lobner wird in Vertretung von Landeshauptfrau 
 Johanna Mikl-Leitner dem Spatenstich beiwohnen.
DTSTART:20260511T140000
DTEND:20260511T160000
LOCATION:Beim künftigen POP\, Treibhausgasse 1\, 2183 Neusiedl an der Zaya
END:VEVENT
END:VCALENDAR
